BEGIN:VCALENDAR
VERSION:2.0
PRODID:-//NetAuktion//NONSGML NetAuktion//SV
METHOD:PUBLISH
BEGIN:VEVENT
UID:20260421T104631-1014558474-netauktion.se
DTSTAMP:20260421T104631
DTSTART:20180629T021200
DTEND:20180629T021500
SUMMARY:Netauktion objekt 3471-089 Auktionspåminnelse
DESCRIPTION:Länk till objektet du var intresserad av: https://staging.netauktion.se/auktion/produkt/nya-glas-olika-sorter-ca-96-delar-4
END:VEVENT
END:VCALENDAR
