BEGIN:VCALENDAR
VERSION:2.0
PRODID:-//NetAuktion//NONSGML NetAuktion//SV
METHOD:PUBLISH
BEGIN:VEVENT
UID:20260421T104601-151818997-netauktion.se
DTSTAMP:20260421T104601
DTSTART:20180629T020000
DTEND:20180629T020300
SUMMARY:Netauktion objekt 3471-091 Auktionspåminnelse
DESCRIPTION:Länk till objektet du var intresserad av: https://staging.netauktion.se/auktion/produkt/nya-champagneglas-reserva-ca-48st
END:VEVENT
END:VCALENDAR
