BEGIN:VCALENDAR
VERSION:2.0
PRODID:-//NetAuktion//NONSGML NetAuktion//SV
METHOD:PUBLISH
BEGIN:VEVENT
UID:20260421T104602-529950733-netauktion.se
DTSTAMP:20260421T104602
DTSTART:20180628T155700
DTEND:20180628T160000
SUMMARY:Netauktion objekt 3516-016 Auktionspåminnelse
DESCRIPTION:Länk till objektet du var intresserad av: https://staging.netauktion.se/auktion/produkt/rorkopplingar-direktforsaljning
END:VEVENT
END:VCALENDAR
