BEGIN:VCALENDAR
VERSION:2.0
PRODID:-//NetAuktion//NONSGML NetAuktion//SV
METHOD:PUBLISH
BEGIN:VEVENT
UID:20260421T103032-1012422792-netauktion.se
DTSTAMP:20260421T103032
DTSTART:20180629T014100
DTEND:20180629T014400
SUMMARY:Netauktion objekt 3518-036 Auktionspåminnelse
DESCRIPTION:Länk till objektet du var intresserad av: https://staging.netauktion.se/auktion/produkt/vasklarm-ca-100st-5
END:VEVENT
END:VCALENDAR
