BEGIN:VCALENDAR
VERSION:2.0
PRODID:-//NetAuktion//NONSGML NetAuktion//SV
METHOD:PUBLISH
BEGIN:VEVENT
UID:20260421T102802-1365070802-netauktion.se
DTSTAMP:20260421T102802
DTSTART:20180629T014000
DTEND:20180629T014300
SUMMARY:Netauktion objekt 3518-037 Auktionspåminnelse
DESCRIPTION:Länk till objektet du var intresserad av: https://staging.netauktion.se/auktion/produkt/vasklarm-ca-100st-6
END:VEVENT
END:VCALENDAR
