BEGIN:VCALENDAR
VERSION:2.0
PRODID:-//NetAuktion//NONSGML NetAuktion//SV
METHOD:PUBLISH
BEGIN:VEVENT
UID:20260421T102840-2072184464-netauktion.se
DTSTAMP:20260421T102840
DTSTART:20181130T043800
DTEND:20181130T044100
SUMMARY:Netauktion objekt 3447-227 Auktionspåminnelse
DESCRIPTION:Länk till objektet du var intresserad av: https://staging.netauktion.se/auktion/produkt/kedjesag-hacksax-grastrimmer-batteripack-37
END:VEVENT
END:VCALENDAR
