BEGIN:VCALENDAR
VERSION:2.0
PRODID:-//NetAuktion//NONSGML NetAuktion//SV
METHOD:PUBLISH
BEGIN:VEVENT
UID:20260421T104606-559832176-netauktion.se
DTSTAMP:20260421T104606
DTSTART:20230119T200100
DTEND:20230119T200400
SUMMARY:Netauktion objekt 3249-017 Auktionspåminnelse
DESCRIPTION:Länk till objektet du var intresserad av: https://staging.netauktion.se/auktion/produkt/tvatt-och-skurenhet-for-hogtryckspump
END:VEVENT
END:VCALENDAR
