BEGIN:VCALENDAR
VERSION:2.0
PRODID:-//NetAuktion//NONSGML NetAuktion//SV
METHOD:PUBLISH
BEGIN:VEVENT
UID:20260421T104634-1329585520-netauktion.se
DTSTAMP:20260421T104634
DTSTART:20230119T200100
DTEND:20230119T200400
SUMMARY:Netauktion objekt 3249-018 Auktionspåminnelse
DESCRIPTION:Länk till objektet du var intresserad av: https://staging.netauktion.se/auktion/produkt/palldragare-rf
END:VEVENT
END:VCALENDAR
