BEGIN:VCALENDAR
VERSION:2.0
PRODID:-//NetAuktion//NONSGML NetAuktion//SV
METHOD:PUBLISH
BEGIN:VEVENT
UID:20260421T104530-683489219-netauktion.se
DTSTAMP:20260421T104530
DTSTART:20180731T024000
DTEND:20180731T024300
SUMMARY:Netauktion objekt 3559-049 Auktionspåminnelse
DESCRIPTION:Länk till objektet du var intresserad av: https://staging.netauktion.se/auktion/produkt/comrex-dh30-3st-3
END:VEVENT
END:VCALENDAR
