BEGIN:VCALENDAR
VERSION:2.0
PRODID:-//NetAuktion//NONSGML NetAuktion//SV
METHOD:PUBLISH
BEGIN:VEVENT
UID:20260421T103137-1360233701-netauktion.se
DTSTAMP:20260421T103137
DTSTART:20180731T030800
DTEND:20180731T031100
SUMMARY:Netauktion objekt 3559-105 Auktionspåminnelse
DESCRIPTION:Länk till objektet du var intresserad av: https://staging.netauktion.se/auktion/produkt/videokabel-i-tralada
END:VEVENT
END:VCALENDAR
