BEGIN:VCALENDAR
VERSION:2.0
PRODID:-//NetAuktion//NONSGML NetAuktion//SV
METHOD:PUBLISH
BEGIN:VEVENT
UID:20260421T102802-1922799069-netauktion.se
DTSTAMP:20260421T102802
DTSTART:20180731T031300
DTEND:20180731T031600
SUMMARY:Netauktion objekt 3559-106 Auktionspåminnelse
DESCRIPTION:Länk till objektet du var intresserad av: https://staging.netauktion.se/auktion/produkt/cd-vaxlare-alpine
END:VEVENT
END:VCALENDAR
