BEGIN:VCALENDAR
VERSION:2.0
PRODID:-//NetAuktion//NONSGML NetAuktion//SV
METHOD:PUBLISH
BEGIN:VEVENT
UID:20260421T104623-1237567177-netauktion.se
DTSTAMP:20260421T104623
DTSTART:20180731T031200
DTEND:20180731T031500
SUMMARY:Netauktion objekt 3559-114 Auktionspåminnelse
DESCRIPTION:Länk till objektet du var intresserad av: https://staging.netauktion.se/auktion/produkt/kabel-holje
END:VEVENT
END:VCALENDAR
