BEGIN:VCALENDAR
VERSION:2.0
PRODID:-//NetAuktion//NONSGML NetAuktion//SV
METHOD:PUBLISH
BEGIN:VEVENT
UID:20260421T104450-1998051406-netauktion.se
DTSTAMP:20260421T104450
DTSTART:20180731T023100
DTEND:20180731T023400
SUMMARY:Netauktion objekt 3559-032 Auktionspåminnelse
DESCRIPTION:Länk till objektet du var intresserad av: https://staging.netauktion.se/auktion/produkt/cue-styrsystem-med-12-pekskarm-9
END:VEVENT
END:VCALENDAR
