BEGIN:VCALENDAR
VERSION:2.0
PRODID:-//NetAuktion//NONSGML NetAuktion//SV
METHOD:PUBLISH
BEGIN:VEVENT
UID:20260421T104532-888821628-netauktion.se
DTSTAMP:20260421T104532
DTSTART:20180731T023000
DTEND:20180731T023300
SUMMARY:Netauktion objekt 3559-036 Auktionspåminnelse
DESCRIPTION:Länk till objektet du var intresserad av: https://staging.netauktion.se/auktion/produkt/cue-styrsystem-med-12-pekskarm-13
END:VEVENT
END:VCALENDAR
