BEGIN:VCALENDAR
VERSION:2.0
PRODID:-//NetAuktion//NONSGML NetAuktion//SV
METHOD:PUBLISH
BEGIN:VEVENT
UID:20260421T104442-1901645549-netauktion.se
DTSTAMP:20260421T104442
DTSTART:20180731T021800
DTEND:20180731T022100
SUMMARY:Netauktion objekt 3559-030 Auktionspåminnelse
DESCRIPTION:Länk till objektet du var intresserad av: https://staging.netauktion.se/auktion/produkt/3st-art-418-8-kanals-mixer-2
END:VEVENT
END:VCALENDAR
