BEGIN:VCALENDAR
VERSION:2.0
PRODID:-//NetAuktion//NONSGML NetAuktion//SV
METHOD:PUBLISH
BEGIN:VEVENT
UID:20260421T104433-2037923078-netauktion.se
DTSTAMP:20260421T104433
DTSTART:20180731T024900
DTEND:20180731T025200
SUMMARY:Netauktion objekt 3559-062 Auktionspåminnelse
DESCRIPTION:Länk till objektet du var intresserad av: https://staging.netauktion.se/auktion/produkt/1st-art-418-8-kanals-mixer-2
END:VEVENT
END:VCALENDAR
