BEGIN:VCALENDAR
VERSION:2.0
PRODID:-//NetAuktion//NONSGML NetAuktion//SV
METHOD:PUBLISH
BEGIN:VEVENT
UID:20260421T102803-719416587-netauktion.se
DTSTAMP:20260421T102803
DTSTART:20180731T025200
DTEND:20180731T025500
SUMMARY:Netauktion objekt 3559-065 Auktionspåminnelse
DESCRIPTION:Länk till objektet du var intresserad av: https://staging.netauktion.se/auktion/produkt/sony-digital-automixer-srp-x700p-1
END:VEVENT
END:VCALENDAR
