BEGIN:VCALENDAR
VERSION:2.0
PRODID:-//NetAuktion//NONSGML NetAuktion//SV
METHOD:PUBLISH
BEGIN:VEVENT
UID:20260421T103129-1481228659-netauktion.se
DTSTAMP:20260421T103129
DTSTART:20180731T025900
DTEND:20180731T030200
SUMMARY:Netauktion objekt 3559-077 Auktionspåminnelse
DESCRIPTION:Länk till objektet du var intresserad av: https://staging.netauktion.se/auktion/produkt/sony-videokonferensutrustning
END:VEVENT
END:VCALENDAR
