BEGIN:VCALENDAR
VERSION:2.0
PRODID:-//NetAuktion//NONSGML NetAuktion//SV
METHOD:PUBLISH
BEGIN:VEVENT
UID:20260421T103007-367901584-netauktion.se
DTSTAMP:20260421T103007
DTSTART:20180731T030100
DTEND:20180731T030400
SUMMARY:Netauktion objekt 3559-080 Auktionspåminnelse
DESCRIPTION:Länk till objektet du var intresserad av: https://staging.netauktion.se/auktion/produkt/inbyggnadshogtalare-forte-1
END:VEVENT
END:VCALENDAR
