BEGIN:VCALENDAR
VERSION:2.0
PRODID:-//NetAuktion//NONSGML NetAuktion//SV
METHOD:PUBLISH
BEGIN:VEVENT
UID:20260421T103031-62218086-netauktion.se
DTSTAMP:20260421T103031
DTSTART:20180731T030200
DTEND:20180731T030500
SUMMARY:Netauktion objekt 3559-081 Auktionspåminnelse
DESCRIPTION:Länk till objektet du var intresserad av: https://staging.netauktion.se/auktion/produkt/inbyggnadshogtalare-forte-2
END:VEVENT
END:VCALENDAR
