BEGIN:VCALENDAR
VERSION:2.0
PRODID:-//NetAuktion//NONSGML NetAuktion//SV
METHOD:PUBLISH
BEGIN:VEVENT
UID:20260421T102953-2071912508-netauktion.se
DTSTAMP:20260421T102953
DTSTART:20180731T030400
DTEND:20180731T030700
SUMMARY:Netauktion objekt 3559-083 Auktionspåminnelse
DESCRIPTION:Länk till objektet du var intresserad av: https://staging.netauktion.se/auktion/produkt/moxa-nport
END:VEVENT
END:VCALENDAR
