BEGIN:VCALENDAR
VERSION:2.0
PRODID:-//NetAuktion//NONSGML NetAuktion//SV
METHOD:PUBLISH
BEGIN:VEVENT
UID:20260421T103128-1998795294-netauktion.se
DTSTAMP:20260421T103128
DTSTART:20180831T022100
DTEND:20180831T022400
SUMMARY:Netauktion objekt 3538-076 Auktionspåminnelse
DESCRIPTION:Länk till objektet du var intresserad av: https://staging.netauktion.se/auktion/produkt/blandpost-med-skruv-infastningar-mm-mft
END:VEVENT
END:VCALENDAR
