BEGIN:VCALENDAR
VERSION:2.0
PRODID:-//NetAuktion//NONSGML NetAuktion//SV
METHOD:PUBLISH
BEGIN:VEVENT
UID:20260421T103004-799304725-netauktion.se
DTSTAMP:20260421T103004
DTSTART:20180831T022100
DTEND:20180831T022400
SUMMARY:Netauktion objekt 3538-082 Auktionspåminnelse
DESCRIPTION:Länk till objektet du var intresserad av: https://staging.netauktion.se/auktion/produkt/mindre-blandpost-skruv-plugg-mm-mft-3-2
END:VEVENT
END:VCALENDAR
