BEGIN:VCALENDAR
VERSION:2.0
PRODID:-//NetAuktion//NONSGML NetAuktion//SV
METHOD:PUBLISH
BEGIN:VEVENT
UID:20260421T103237-854972188-netauktion.se
DTSTAMP:20260421T103237
DTSTART:20180831T021800
DTEND:20180831T022100
SUMMARY:Netauktion objekt 3538-090 Auktionspåminnelse
DESCRIPTION:Länk till objektet du var intresserad av: https://staging.netauktion.se/auktion/produkt/mindre-blandpost-med-skruv-mft
END:VEVENT
END:VCALENDAR
