BEGIN:VCALENDAR
VERSION:2.0
PRODID:-//NetAuktion//NONSGML NetAuktion//SV
METHOD:PUBLISH
BEGIN:VEVENT
UID:20260421T103031-1332108586-netauktion.se
DTSTAMP:20260421T103031
DTSTART:20180831T022000
DTEND:20180831T022300
SUMMARY:Netauktion objekt 3538-107 Auktionspåminnelse
DESCRIPTION:Länk till objektet du var intresserad av: https://staging.netauktion.se/auktion/produkt/traskruv-60x90mm-ca-2-000st-mft-3
END:VEVENT
END:VCALENDAR
