BEGIN:VCALENDAR
VERSION:2.0
PRODID:-//NetAuktion//NONSGML NetAuktion//SV
METHOD:PUBLISH
BEGIN:VEVENT
UID:20260421T104603-616183614-netauktion.se
DTSTAMP:20260421T104603
DTSTART:20180831T022600
DTEND:20180831T022900
SUMMARY:Netauktion objekt 3538-118 Auktionspåminnelse
DESCRIPTION:Länk till objektet du var intresserad av: https://staging.netauktion.se/auktion/produkt/trallskruv-rostfri-42x55mm-ca-2-000st-mft
END:VEVENT
END:VCALENDAR
