BEGIN:VCALENDAR
VERSION:2.0
PRODID:-//NetAuktion//NONSGML NetAuktion//SV
METHOD:PUBLISH
BEGIN:VEVENT
UID:20260421T103258-2103357324-netauktion.se
DTSTAMP:20260421T103258
DTSTART:20180831T022500
DTEND:20180831T022800
SUMMARY:Netauktion objekt 3538-131 Auktionspåminnelse
DESCRIPTION:Länk till objektet du var intresserad av: https://staging.netauktion.se/auktion/produkt/trallskruv-rostfri-42x55mm-ca-9-600st-mft
END:VEVENT
END:VCALENDAR
