BEGIN:VCALENDAR
VERSION:2.0
PRODID:-//NetAuktion//NONSGML NetAuktion//SV
METHOD:PUBLISH
BEGIN:VEVENT
UID:20260421T104604-644946905-netauktion.se
DTSTAMP:20260421T104604
DTSTART:20180831T022900
DTEND:20180831T023200
SUMMARY:Netauktion objekt 3538-146 Auktionspåminnelse
DESCRIPTION:Länk till objektet du var intresserad av: https://staging.netauktion.se/auktion/produkt/trallskruv-rostfri-42x45mm-ca-9-600st-mft
END:VEVENT
END:VCALENDAR
