BEGIN:VCALENDAR
VERSION:2.0
PRODID:-//NetAuktion//NONSGML NetAuktion//SV
METHOD:PUBLISH
BEGIN:VEVENT
UID:20260421T104559-1300934449-netauktion.se
DTSTAMP:20260421T104559
DTSTART:20180831T023200
DTEND:20180831T023500
SUMMARY:Netauktion objekt 3538-147 Auktionspåminnelse
DESCRIPTION:Länk till objektet du var intresserad av: https://staging.netauktion.se/auktion/produkt/trallskruv-rostfri-42x45mm-ca-9-600st-mft-2
END:VEVENT
END:VCALENDAR
