BEGIN:VCALENDAR
VERSION:2.0
PRODID:-//NetAuktion//NONSGML NetAuktion//SV
METHOD:PUBLISH
BEGIN:VEVENT
UID:20260421T104615-279418362-netauktion.se
DTSTAMP:20260421T104615
DTSTART:20180831T023100
DTEND:20180831T023400
SUMMARY:Netauktion objekt 3538-154 Auktionspåminnelse
DESCRIPTION:Länk till objektet du var intresserad av: https://staging.netauktion.se/auktion/produkt/fasadplugg-8x30100mm-ca1-000st-mft
END:VEVENT
END:VCALENDAR
