BEGIN:VCALENDAR
VERSION:2.0
PRODID:-//NetAuktion//NONSGML NetAuktion//SV
METHOD:PUBLISH
BEGIN:VEVENT
UID:20260421T104605-1482099634-netauktion.se
DTSTAMP:20260421T104605
DTSTART:20180831T023600
DTEND:20180831T023900
SUMMARY:Netauktion objekt 3538-165 Auktionspåminnelse
DESCRIPTION:Länk till objektet du var intresserad av: https://staging.netauktion.se/auktion/produkt/fasadplugg-10x55135mm-ca-500st-mft-2
END:VEVENT
END:VCALENDAR
