BEGIN:VCALENDAR
VERSION:2.0
PRODID:-//NetAuktion//NONSGML NetAuktion//SV
METHOD:PUBLISH
BEGIN:VEVENT
UID:20260421T102953-27806806-netauktion.se
DTSTAMP:20260421T102953
DTSTART:20180831T023600
DTEND:20180831T023900
SUMMARY:Netauktion objekt 3538-172 Auktionspåminnelse
DESCRIPTION:Länk till objektet du var intresserad av: https://staging.netauktion.se/auktion/produkt/traskruv-60x80mm-ca-2-000st-mft-2
END:VEVENT
END:VCALENDAR
