BEGIN:VCALENDAR
VERSION:2.0
PRODID:-//NetAuktion//NONSGML NetAuktion//SV
METHOD:PUBLISH
BEGIN:VEVENT
UID:20260421T104615-1560450003-netauktion.se
DTSTAMP:20260421T104615
DTSTART:20180831T023700
DTEND:20180831T024000
SUMMARY:Netauktion objekt 3538-173 Auktionspåminnelse
DESCRIPTION:Länk till objektet du var intresserad av: https://staging.netauktion.se/auktion/produkt/trallskruv-ruspert-42x75mm-ca-2-500st-mft
END:VEVENT
END:VCALENDAR
