BEGIN:VCALENDAR
VERSION:2.0
PRODID:-//NetAuktion//NONSGML NetAuktion//SV
METHOD:PUBLISH
BEGIN:VEVENT
UID:20260421T102952-1923267830-netauktion.se
DTSTAMP:20260421T102952
DTSTART:20180915T011000
DTEND:20180915T011300
SUMMARY:Netauktion objekt 3482-070 Auktionspåminnelse
DESCRIPTION:Länk till objektet du var intresserad av: https://staging.netauktion.se/auktion/produkt/fettsprutor-batteridrivna-5-st
END:VEVENT
END:VCALENDAR
