BEGIN:VCALENDAR
VERSION:2.0
PRODID:-//NetAuktion//NONSGML NetAuktion//SV
METHOD:PUBLISH
BEGIN:VEVENT
UID:20260421T104535-1088856315-netauktion.se
DTSTAMP:20260421T104535
DTSTART:20180921T015000
DTEND:20180921T015300
SUMMARY:Netauktion objekt 3612-004 Auktionspåminnelse
DESCRIPTION:Länk till objektet du var intresserad av: https://staging.netauktion.se/auktion/produkt/rulle-matta-till-fortalt-1
END:VEVENT
END:VCALENDAR
