BEGIN:VCALENDAR
VERSION:2.0
PRODID:-//NetAuktion//NONSGML NetAuktion//SV
METHOD:PUBLISH
BEGIN:VEVENT
UID:20260421T103136-626017692-netauktion.se
DTSTAMP:20260421T103136
DTSTART:20180921T013200
DTEND:20180921T013500
SUMMARY:Netauktion objekt 3612-058 Auktionspåminnelse
DESCRIPTION:Länk till objektet du var intresserad av: https://staging.netauktion.se/auktion/produkt/husvagnstalt-euro-tent-a-matt-950
END:VEVENT
END:VCALENDAR
