BEGIN:VCALENDAR
VERSION:2.0
PRODID:-//NetAuktion//NONSGML NetAuktion//SV
METHOD:PUBLISH
BEGIN:VEVENT
UID:20260421T104606-626804710-netauktion.se
DTSTAMP:20260421T104606
DTSTART:20180921T012400
DTEND:20180921T012700
SUMMARY:Netauktion objekt 3612-060 Auktionspåminnelse
DESCRIPTION:Länk till objektet du var intresserad av: https://staging.netauktion.se/auktion/produkt/talt-president-xl-300
END:VEVENT
END:VCALENDAR
