BEGIN:VCALENDAR
VERSION:2.0
PRODID:-//NetAuktion//NONSGML NetAuktion//SV
METHOD:PUBLISH
BEGIN:VEVENT
UID:20260421T104618-1535621482-netauktion.se
DTSTAMP:20260421T104618
DTSTART:20180921T012800
DTEND:20180921T013100
SUMMARY:Netauktion objekt 3612-063 Auktionspåminnelse
DESCRIPTION:Länk till objektet du var intresserad av: https://staging.netauktion.se/auktion/produkt/talt-isabella-penta-gold-350
END:VEVENT
END:VCALENDAR
