BEGIN:VCALENDAR
VERSION:2.0
PRODID:-//NetAuktion//NONSGML NetAuktion//SV
METHOD:PUBLISH
BEGIN:VEVENT
UID:20260421T102953-1703751500-netauktion.se
DTSTAMP:20260421T102953
DTSTART:20181031T023900
DTEND:20181031T024200
SUMMARY:Netauktion objekt 3633-118 Auktionspåminnelse
DESCRIPTION:Länk till objektet du var intresserad av: https://staging.netauktion.se/auktion/produkt/vw-caddy-maxi-20-ksy949-10
END:VEVENT
END:VCALENDAR
