BEGIN:VCALENDAR
VERSION:2.0
PRODID:-//NetAuktion//NONSGML NetAuktion//SV
METHOD:PUBLISH
BEGIN:VEVENT
UID:20260421T104447-1312159591-netauktion.se
DTSTAMP:20260421T104447
DTSTART:20080919T012700
DTEND:20080919T013000
SUMMARY:Netauktion objekt 0094-001 Auktionspåminnelse
DESCRIPTION:Länk till objektet du var intresserad av: https://staging.netauktion.se/auktion/produkt/dubbelsang-nattduksbord-mm
END:VEVENT
END:VCALENDAR
