BEGIN:VCALENDAR
VERSION:2.0
PRODID:-//NetAuktion//NONSGML NetAuktion//SV
METHOD:PUBLISH
BEGIN:VEVENT
UID:20260421T102838-998688448-netauktion.se
DTSTAMP:20260421T102838
DTSTART:20080919T012500
DTEND:20080919T012800
SUMMARY:Netauktion objekt 0094-002 Auktionspåminnelse
DESCRIPTION:Länk till objektet du var intresserad av: https://staging.netauktion.se/auktion/produkt/spegel-med-guldram-ljusstakar-mm
END:VEVENT
END:VCALENDAR
