BEGIN:VCALENDAR
VERSION:2.0
PRODID:-//NetAuktion//NONSGML NetAuktion//SV
METHOD:PUBLISH
BEGIN:VEVENT
UID:20260421T104615-1093272574-netauktion.se
DTSTAMP:20260421T104615
DTSTART:20181031T025200
DTEND:20181031T025500
SUMMARY:Netauktion objekt 3633-120 Auktionspåminnelse
DESCRIPTION:Länk till objektet du var intresserad av: https://staging.netauktion.se/auktion/produkt/slap-thule-f150u-ljf618-00
END:VEVENT
END:VCALENDAR
