BEGIN:VCALENDAR
VERSION:2.0
PRODID:-//NetAuktion//NONSGML NetAuktion//SV
METHOD:PUBLISH
BEGIN:VEVENT
UID:20260421T103128-551013555-netauktion.se
DTSTAMP:20260421T103128
DTSTART:20181031T012200
DTEND:20181031T012500
SUMMARY:Netauktion objekt 3628-015 Auktionspåminnelse
DESCRIPTION:Länk till objektet du var intresserad av: https://staging.netauktion.se/auktion/produkt/aquaspray-duschset-vita-10st-10
END:VEVENT
END:VCALENDAR
