BEGIN:VCALENDAR
VERSION:2.0
PRODID:-//NetAuktion//NONSGML NetAuktion//SV
METHOD:PUBLISH
BEGIN:VEVENT
UID:20260421T104632-36387453-netauktion.se
DTSTAMP:20260421T104632
DTSTART:20181031T010900
DTEND:20181031T011200
SUMMARY:Netauktion objekt 3628-016 Auktionspåminnelse
DESCRIPTION:Länk till objektet du var intresserad av: https://staging.netauktion.se/auktion/produkt/aquaspray-duschset-vita-10st-11
END:VEVENT
END:VCALENDAR
