BEGIN:VCALENDAR
VERSION:2.0
PRODID:-//NetAuktion//NONSGML NetAuktion//SV
METHOD:PUBLISH
BEGIN:VEVENT
UID:20260421T103005-2135518718-netauktion.se
DTSTAMP:20260421T103005
DTSTART:20181031T020100
DTEND:20181031T020400
SUMMARY:Netauktion objekt 3551-019 Auktionspåminnelse
DESCRIPTION:Länk till objektet du var intresserad av: https://staging.netauktion.se/auktion/produkt/cone-bowl-fran-anton-black-17-cm-ca-60st-2
END:VEVENT
END:VCALENDAR
