BEGIN:VCALENDAR
VERSION:2.0
PRODID:-//NetAuktion//NONSGML NetAuktion//SV
METHOD:PUBLISH
BEGIN:VEVENT
UID:20260421T104619-1913571707-netauktion.se
DTSTAMP:20260421T104619
DTSTART:20181031T021600
DTEND:20181031T021900
SUMMARY:Netauktion objekt 3551-030 Auktionspåminnelse
DESCRIPTION:Länk till objektet du var intresserad av: https://staging.netauktion.se/auktion/produkt/deco-v-shaped-cup-a-black-21-cl-ca-60st-14
END:VEVENT
END:VCALENDAR
