BEGIN:VCALENDAR
VERSION:2.0
PRODID:-//NetAuktion//NONSGML NetAuktion//SV
METHOD:PUBLISH
BEGIN:VEVENT
UID:20260421T103127-2004443054-netauktion.se
DTSTAMP:20260421T103127
DTSTART:20181031T015600
DTEND:20181031T015900
SUMMARY:Netauktion objekt 3551-032 Auktionspåminnelse
DESCRIPTION:Länk till objektet du var intresserad av: https://staging.netauktion.se/auktion/produkt/deco-v-shaped-cup-a-black-21-cl-ca-60st-15
END:VEVENT
END:VCALENDAR
