BEGIN:VCALENDAR
VERSION:2.0
PRODID:-//NetAuktion//NONSGML NetAuktion//SV
METHOD:PUBLISH
BEGIN:VEVENT
UID:20260421T104622-1085999300-netauktion.se
DTSTAMP:20260421T104622
DTSTART:20181031T021300
DTEND:20181031T021600
SUMMARY:Netauktion objekt 3551-034 Auktionspåminnelse
DESCRIPTION:Länk till objektet du var intresserad av: https://staging.netauktion.se/auktion/produkt/deco-v-shaped-cup-a-black-21-cl-ca-60st-18
END:VEVENT
END:VCALENDAR
