BEGIN:VCALENDAR
VERSION:2.0
PRODID:-//NetAuktion//NONSGML NetAuktion//SV
METHOD:PUBLISH
BEGIN:VEVENT
UID:20260421T104616-958968314-netauktion.se
DTSTAMP:20260421T104616
DTSTART:20181031T015200
DTEND:20181031T015500
SUMMARY:Netauktion objekt 3551-036 Auktionspåminnelse
DESCRIPTION:Länk till objektet du var intresserad av: https://staging.netauktion.se/auktion/produkt/deco-v-shaped-cup-a-black-21-cl-ca-60st-19
END:VEVENT
END:VCALENDAR
