BEGIN:VCALENDAR
VERSION:2.0
PRODID:-//NetAuktion//NONSGML NetAuktion//SV
METHOD:PUBLISH
BEGIN:VEVENT
UID:20260421T104452-1584725238-netauktion.se
DTSTAMP:20260421T104452
DTSTART:20181031T015100
DTEND:20181031T015400
SUMMARY:Netauktion objekt 3551-045 Auktionspåminnelse
DESCRIPTION:Länk till objektet du var intresserad av: https://staging.netauktion.se/auktion/produkt/deco-v-shaped-cup-a-black-21-cl-ca-60st-10
END:VEVENT
END:VCALENDAR
